BEGIN:VCALENDAR
VERSION:2.0
PRODID:-//Shooter&#039;s Paradise - ECPv6.15.20//NONSGML v1.0//EN
CALSCALE:GREGORIAN
METHOD:PUBLISH
X-ORIGINAL-URL:https://spyc.com
X-WR-CALDESC:Events for Shooter&#039;s Paradise
REFRESH-INTERVAL;VALUE=DURATION:PT1H
X-Robots-Tag:noindex
X-PUBLISHED-TTL:PT1H
BEGIN:VTIMEZONE
TZID:America/Los_Angeles
BEGIN:DAYLIGHT
TZOFFSETFROM:-0800
TZOFFSETTO:-0700
TZNAME:PDT
DTSTART:20210314T100000
END:DAYLIGHT
BEGIN:STANDARD
TZOFFSETFROM:-0700
TZOFFSETTO:-0800
TZNAME:PST
DTSTART:20211107T090000
END:STANDARD
BEGIN:DAYLIGHT
TZOFFSETFROM:-0800
TZOFFSETTO:-0700
TZNAME:PDT
DTSTART:20220313T100000
END:DAYLIGHT
BEGIN:STANDARD
TZOFFSETFROM:-0700
TZOFFSETTO:-0800
TZNAME:PST
DTSTART:20221106T090000
END:STANDARD
BEGIN:DAYLIGHT
TZOFFSETFROM:-0800
TZOFFSETTO:-0700
TZNAME:PDT
DTSTART:20230312T100000
END:DAYLIGHT
BEGIN:STANDARD
TZOFFSETFROM:-0700
TZOFFSETTO:-0800
TZNAME:PST
DTSTART:20231105T090000
END:STANDARD
BEGIN:DAYLIGHT
TZOFFSETFROM:-0800
TZOFFSETTO:-0700
TZNAME:PDT
DTSTART:20240310T100000
END:DAYLIGHT
BEGIN:STANDARD
TZOFFSETFROM:-0700
TZOFFSETTO:-0800
TZNAME:PST
DTSTART:20241103T090000
END:STANDARD
END:VTIMEZONE
BEGIN:VEVENT
DTSTART;TZID=America/Los_Angeles:20230225T100000
DTEND;TZID=America/Los_Angeles:20230225T140000
DTSTAMP:20260423T084949
CREATED:20221202T211443Z
LAST-MODIFIED:20221202T211443Z
UID:460-1677319200-1677333600@spyc.com
SUMMARY:CCW RENEWAL
DESCRIPTION:4 HOUR CCW RENEWAL CLASS\nCALL OR COME IN TO PAY AND REGISTER\n530.673.4100
URL:https://spyc.com/event/ccw-renewal-8/
LOCATION:SHOOTERS PARADISE OF YUBA CITY\, 1407A COLUSA HWY\, YUBA CITY\, CA\, 95993\, United States
CATEGORIES:CCW RENEWAL
ATTACH;FMTTYPE=image/png:https://spyc.com/wp-content/uploads/2022/12/CCWBLUE.png
ORGANIZER;CN="SHOOTER'S PARADISE OF YUBA CITY":MAILTO:info@SPYC.COM
END:VEVENT
BEGIN:VEVENT
DTSTART;TZID=America/Los_Angeles:20230212T100000
DTEND;TZID=America/Los_Angeles:20230212T140000
DTSTAMP:20260423T084949
CREATED:20221202T211229Z
LAST-MODIFIED:20221202T211229Z
UID:458-1676196000-1676210400@spyc.com
SUMMARY:CCW RENEWAL
DESCRIPTION:4 HOUR CCW RENEWAL CLASS\nCALL OR COME IN TO PAY AND REGISTER\n530.673.4100
URL:https://spyc.com/event/ccw-renewal-7/
LOCATION:SHOOTERS PARADISE OF YUBA CITY\, 1407A COLUSA HWY\, YUBA CITY\, CA\, 95993\, United States
CATEGORIES:CCW RENEWAL
ATTACH;FMTTYPE=image/png:https://spyc.com/wp-content/uploads/2022/12/CCWBLUE.png
ORGANIZER;CN="SHOOTER'S PARADISE OF YUBA CITY":MAILTO:info@SPYC.COM
END:VEVENT
BEGIN:VEVENT
DTSTART;TZID=America/Los_Angeles:20230211T100000
DTEND;TZID=America/Los_Angeles:20230211T180000
DTSTAMP:20260423T084949
CREATED:20221202T210811Z
LAST-MODIFIED:20221202T210811Z
UID:455-1676109600-1676138400@spyc.com
SUMMARY:CCW INITIAL
DESCRIPTION:8 HOUR INITIAL CCW CLASS\nCALL OR COME IN TO PAY AND REGISTER\n530.673.4100
URL:https://spyc.com/event/ccw-initial-7/
LOCATION:SHOOTERS PARADISE OF YUBA CITY\, 1407A COLUSA HWY\, YUBA CITY\, CA\, 95993\, United States
CATEGORIES:CCW INITIAL
ATTACH;FMTTYPE=image/png:https://spyc.com/wp-content/uploads/2022/12/CCWBLUE.png
ORGANIZER;CN="SHOOTER'S PARADISE OF YUBA CITY":MAILTO:info@SPYC.COM
END:VEVENT
BEGIN:VEVENT
DTSTART;TZID=America/Los_Angeles:20230129T100000
DTEND;TZID=America/Los_Angeles:20230129T180000
DTSTAMP:20260423T084949
CREATED:20221202T204407Z
LAST-MODIFIED:20221202T204407Z
UID:453-1674986400-1675015200@spyc.com
SUMMARY:CCW INITIAL
DESCRIPTION:8 HOUR INITIAL CCW CLASS\nCALL OR COME IN TO PAY AND REGISTER\n530.673.4100
URL:https://spyc.com/event/ccw-initial-6/
LOCATION:SHOOTERS PARADISE OF YUBA CITY\, 1407A COLUSA HWY\, YUBA CITY\, CA\, 95993\, United States
CATEGORIES:CCW INITIAL
ATTACH;FMTTYPE=image/jpeg:https://spyc.com/wp-content/uploads/2022/12/concealed-carry-oregon.jpg
ORGANIZER;CN="SHOOTER'S PARADISE OF YUBA CITY":MAILTO:info@SPYC.COM
END:VEVENT
BEGIN:VEVENT
DTSTART;TZID=America/Los_Angeles:20230128T100000
DTEND;TZID=America/Los_Angeles:20230128T140000
DTSTAMP:20260423T084949
CREATED:20221202T204107Z
LAST-MODIFIED:20221202T204107Z
UID:451-1674900000-1674914400@spyc.com
SUMMARY:CCW RENEWAL
DESCRIPTION:4 HOUR CCW RENEWAL CLASS\nCALL OR COME IN TO PAY AND REGISTER\n530.673.4100
URL:https://spyc.com/event/ccw-renewal-6/
LOCATION:SHOOTERS PARADISE OF YUBA CITY\, 1407A COLUSA HWY\, YUBA CITY\, CA\, 95993\, United States
CATEGORIES:CCW RENEWAL
ATTACH;FMTTYPE=image/jpeg:https://spyc.com/wp-content/uploads/2022/12/concealed-carry-oregon.jpg
ORGANIZER;CN="SHOOTER'S PARADISE OF YUBA CITY":MAILTO:info@SPYC.COM
END:VEVENT
BEGIN:VEVENT
DTSTART;TZID=America/Los_Angeles:20230108T100000
DTEND;TZID=America/Los_Angeles:20230108T180000
DTSTAMP:20260423T084949
CREATED:20221202T203836Z
LAST-MODIFIED:20221202T203836Z
UID:449-1673172000-1673200800@spyc.com
SUMMARY:CCW INITIAL
DESCRIPTION:8 HOUR INITIAL CCW CLASS\nCALL OR COME IN TO PAY AND REGISTER\n530.673.4100
URL:https://spyc.com/event/ccw-initial-5/
LOCATION:SHOOTERS PARADISE OF YUBA CITY\, 1407A COLUSA HWY\, YUBA CITY\, CA\, 95993\, United States
CATEGORIES:CCW INITIAL
ATTACH;FMTTYPE=image/jpeg:https://spyc.com/wp-content/uploads/2022/12/concealed-carry-oregon.jpg
ORGANIZER;CN="SHOOTER'S PARADISE OF YUBA CITY":MAILTO:info@SPYC.COM
END:VEVENT
BEGIN:VEVENT
DTSTART;TZID=America/Los_Angeles:20230107T100000
DTEND;TZID=America/Los_Angeles:20230107T140000
DTSTAMP:20260423T084949
CREATED:20221202T203623Z
LAST-MODIFIED:20221202T203623Z
UID:446-1673085600-1673100000@spyc.com
SUMMARY:CCW RENEWAL
DESCRIPTION:4 HOUR CCW RENEWAL CLASS\nCALL OR COME IN TO PAY AND REGISTER\n530.673.4100
URL:https://spyc.com/event/ccw-renewal-5/
LOCATION:SHOOTERS PARADISE OF YUBA CITY\, 1407A COLUSA HWY\, YUBA CITY\, CA\, 95993\, United States
CATEGORIES:CCW RENEWAL
ATTACH;FMTTYPE=image/jpeg:https://spyc.com/wp-content/uploads/2022/12/concealed-carry-oregon.jpg
ORGANIZER;CN="SHOOTER'S PARADISE OF YUBA CITY":MAILTO:info@SPYC.COM
END:VEVENT
BEGIN:VEVENT
DTSTART;TZID=America/Los_Angeles:20230101T110000
DTEND;TZID=America/Los_Angeles:20230101T190000
DTSTAMP:20260423T084949
CREATED:20221202T011110Z
LAST-MODIFIED:20221202T012905Z
UID:443-1672570800-1672599600@spyc.com
SUMMARY:OPEN NEW YEAR'S DAY!!!
DESCRIPTION:WE ARE OPEN NEW YEAR’S DAY!  STOP BY AND SEE US!!!
URL:https://spyc.com/event/open-new-years-day/
LOCATION:SHOOTERS PARADISE OF YUBA CITY\, 1407A COLUSA HWY\, YUBA CITY\, CA\, 95993\, United States
ATTACH;FMTTYPE=image/jpeg:https://spyc.com/wp-content/uploads/2022/12/New-Years-Eve-NYC-Fireworks-160912163728005.jpg
ORGANIZER;CN="SHOOTER'S PARADISE OF YUBA CITY":MAILTO:info@SPYC.COM
END:VEVENT
BEGIN:VEVENT
DTSTART;VALUE=DATE:20221231
DTEND;VALUE=DATE:20230101
DTSTAMP:20260423T084949
CREATED:20221202T010859Z
LAST-MODIFIED:20221202T010859Z
UID:440-1672444800-1672531199@spyc.com
SUMMARY:CLOSING AT 2PM
DESCRIPTION:HAPPY NEW YEAR!  WE WILL BE CLOSED AT 2PM ON NEW YEAR’S EVE
URL:https://spyc.com/event/closing-at-2pm-2/
LOCATION:SHOOTERS PARADISE OF YUBA CITY\, 1407A COLUSA HWY\, YUBA CITY\, CA\, 95993\, United States
ATTACH;FMTTYPE=image/jpeg:https://spyc.com/wp-content/uploads/2022/12/new-years-eve.jpg
ORGANIZER;CN="SHOOTER'S PARADISE OF YUBA CITY":MAILTO:info@SPYC.COM
END:VEVENT
BEGIN:VEVENT
DTSTART;VALUE=DATE:20221225
DTEND;VALUE=DATE:20221226
DTSTAMP:20260423T084949
CREATED:20221202T005828Z
LAST-MODIFIED:20221202T005828Z
UID:437-1671926400-1672012799@spyc.com
SUMMARY:MERRY CHRISTMAS!
DESCRIPTION:WE ARE CLOSED ON CHRISTMAS DAY.  PLEASE COME SEE US WHEN WE’RE BACK ON DEC. 28TH!
URL:https://spyc.com/event/merry-christmas/
LOCATION:SHOOTERS PARADISE OF YUBA CITY\, 1407A COLUSA HWY\, YUBA CITY\, CA\, 95993\, United States
ATTACH;FMTTYPE=image/jpeg:https://spyc.com/wp-content/uploads/2022/12/christmas_guns.jpg
ORGANIZER;CN="SHOOTER'S PARADISE OF YUBA CITY":MAILTO:info@SPYC.COM
END:VEVENT
BEGIN:VEVENT
DTSTART;VALUE=DATE:20221224
DTEND;VALUE=DATE:20221225
DTSTAMP:20260423T084949
CREATED:20221202T005341Z
LAST-MODIFIED:20221202T005341Z
UID:434-1671840000-1671926399@spyc.com
SUMMARY:CLOSING AT 2PM
DESCRIPTION:WE WILL BE CLOSED AT 2PM ON CHRISTMAS EVE  \nMERRY CHRISTMAS!
URL:https://spyc.com/event/closing-at-2pm/
LOCATION:SHOOTERS PARADISE OF YUBA CITY\, 1407A COLUSA HWY\, YUBA CITY\, CA\, 95993\, United States
ATTACH;FMTTYPE=image/jpeg:https://spyc.com/wp-content/uploads/2022/12/christmasgunstevestan.jpg
ORGANIZER;CN="SHOOTER'S PARADISE OF YUBA CITY":MAILTO:info@SPYC.COM
END:VEVENT
BEGIN:VEVENT
DTSTART;TZID=America/Los_Angeles:20221218T100000
DTEND;TZID=America/Los_Angeles:20221218T140000
DTSTAMP:20260423T084949
CREATED:20221202T004820Z
LAST-MODIFIED:20221202T004820Z
UID:432-1671357600-1671372000@spyc.com
SUMMARY:CCW RENEWAL
DESCRIPTION:4 HOUR CCW RENEWAL CLASS\nCALL OR COME IN TO PAY AND REGISTER\n530.673.4100
URL:https://spyc.com/event/ccw-renewal-4/
LOCATION:SHOOTERS PARADISE OF YUBA CITY\, 1407A COLUSA HWY\, YUBA CITY\, CA\, 95993\, United States
ATTACH;FMTTYPE=image/jpeg:https://spyc.com/wp-content/uploads/2022/12/CCWBADGUY.jpg
ORGANIZER;CN="SHOOTER'S PARADISE OF YUBA CITY":MAILTO:info@SPYC.COM
END:VEVENT
BEGIN:VEVENT
DTSTART;TZID=America/Los_Angeles:20221217T100000
DTEND;TZID=America/Los_Angeles:20221217T180000
DTSTAMP:20260423T084949
CREATED:20221202T004458Z
LAST-MODIFIED:20221202T004458Z
UID:430-1671271200-1671300000@spyc.com
SUMMARY:CCW INITIAL
DESCRIPTION:8 HOUR INITIAL CCW CLASS\nCALL OR COME IN TO PAY AND REGISTER\n530.673.4100
URL:https://spyc.com/event/ccw-initial-4/
LOCATION:SHOOTERS PARADISE OF YUBA CITY\, 1407A COLUSA HWY\, YUBA CITY\, CA\, 95993\, United States
CATEGORIES:CCW INITIAL
ATTACH;FMTTYPE=image/jpeg:https://spyc.com/wp-content/uploads/2022/12/CCWBADGUY.jpg
ORGANIZER;CN="SHOOTER'S PARADISE OF YUBA CITY":MAILTO:info@SPYC.COM
END:VEVENT
BEGIN:VEVENT
DTSTART;TZID=America/Los_Angeles:20221211T100000
DTEND;TZID=America/Los_Angeles:20221211T180000
DTSTAMP:20260423T084949
CREATED:20221202T002628Z
LAST-MODIFIED:20221202T003619Z
UID:421-1670752800-1670781600@spyc.com
SUMMARY:CCW INITIAL
DESCRIPTION:8 HOUR INITIAL CCW CLASS\nCALL OR COME IN TO PAY AND REGISTER\n530.673.4100
URL:https://spyc.com/event/ccw-initial-3/
LOCATION:SHOOTERS PARADISE OF YUBA CITY\, 1407A COLUSA HWY\, YUBA CITY\, CA\, 95993\, United States
ATTACH;FMTTYPE=image/jpeg:https://spyc.com/wp-content/uploads/2022/12/CCWBADGUY.jpg
ORGANIZER;CN="SHOOTER'S PARADISE OF YUBA CITY":MAILTO:info@SPYC.COM
END:VEVENT
BEGIN:VEVENT
DTSTART;TZID=America/Los_Angeles:20221210T100000
DTEND;TZID=America/Los_Angeles:20221210T140000
DTSTAMP:20260423T084949
CREATED:20221202T001252Z
LAST-MODIFIED:20221202T003859Z
UID:415-1670666400-1670680800@spyc.com
SUMMARY:CCW RENEWAL
DESCRIPTION:4 HOUR CCW RENEWAL CLASS\nCALL OR COME IN TO PAY AND REGISTER \n530.673.4100
URL:https://spyc.com/event/ccw-renewal-3/
LOCATION:SHOOTERS PARADISE OF YUBA CITY\, 1407A COLUSA HWY\, YUBA CITY\, CA\, 95993\, United States
CATEGORIES:CCW RENEWAL
ATTACH;FMTTYPE=image/jpeg:https://spyc.com/wp-content/uploads/2022/12/CCWBADGUY.jpg
ORGANIZER;CN="SHOOTER'S PARADISE OF YUBA CITY":MAILTO:info@SPYC.COM
END:VEVENT
BEGIN:VEVENT
DTSTART;TZID=America/Los_Angeles:20221203T100000
DTEND;TZID=America/Los_Angeles:20221203T170000
DTSTAMP:20260423T084949
CREATED:20221201T215356Z
LAST-MODIFIED:20221202T003101Z
UID:401-1670061600-1670086800@spyc.com
SUMMARY:LADIES CCW
DESCRIPTION:LADIES ONLY CCW \nFEMALE INSTRUCTOR \nWILL COVER INITIAL OR RENEWAL \nCALL OR COME IN TO REGISTER \n530.673.4100
URL:https://spyc.com/event/ladies-ccw/
LOCATION:SHOOTERS PARADISE OF YUBA CITY\, 1407A COLUSA HWY\, YUBA CITY\, CA\, 95993\, United States
CATEGORIES:CCW,CCW INITIAL,CCW RENEWAL,LADIES CCW
ATTACH;FMTTYPE=image/jpeg:https://spyc.com/wp-content/uploads/2022/12/ccwf.jpg
ORGANIZER;CN="DEE ADAMS":MAILTO:info@SPYC.COM
END:VEVENT
BEGIN:VEVENT
DTSTART;VALUE=DATE:20221127
DTEND;VALUE=DATE:20221128
DTSTAMP:20260423T084949
CREATED:20221115T070041Z
LAST-MODIFIED:20221115T070041Z
UID:290-1669507200-1669593599@spyc.com
SUMMARY:CCW RENEWAL
DESCRIPTION:Call or Come in to register\n1407 A Colusa Hwy\, Yuba City\n530-673-4100
URL:https://spyc.com/event/ccw-renewal-2/
LOCATION:CA
ATTACH;FMTTYPE=image/png:https://spyc.com/wp-content/uploads/2022/11/My-project-1-51.png
END:VEVENT
BEGIN:VEVENT
DTSTART;VALUE=DATE:20221126
DTEND;VALUE=DATE:20221127
DTSTAMP:20260423T084949
CREATED:20221115T065849Z
LAST-MODIFIED:20221115T065849Z
UID:288-1669420800-1669507199@spyc.com
SUMMARY:CCW INITIAL
DESCRIPTION:Call or Come in to register\n1407 A colusa Hwy\, Yuba City\n530-673-4100
URL:https://spyc.com/event/ccw-initial-2/
LOCATION:CA
ATTACH;FMTTYPE=image/png:https://spyc.com/wp-content/uploads/2022/11/My-project-1-40.png
END:VEVENT
BEGIN:VEVENT
DTSTART;VALUE=DATE:20221120
DTEND;VALUE=DATE:20221121
DTSTAMP:20260423T084949
CREATED:20221115T065802Z
LAST-MODIFIED:20221115T065802Z
UID:286-1668902400-1668988799@spyc.com
SUMMARY:CCW INITIAL
DESCRIPTION:Call or Come in to register\n1407 A colusa Hwy\, Yuba City\n530-673-4100
URL:https://spyc.com/event/ccw-initial/
LOCATION:CA
ATTACH;FMTTYPE=image/jpeg:https://spyc.com/wp-content/uploads/2022/11/cropped-Shooters-Paradise-FB-logo.jpg
END:VEVENT
BEGIN:VEVENT
DTSTART;VALUE=DATE:20221119
DTEND;VALUE=DATE:20221120
DTSTAMP:20260423T084949
CREATED:20221115T065147Z
LAST-MODIFIED:20221115T065618Z
UID:280-1668816000-1668902399@spyc.com
SUMMARY:CCW RENEWAL
DESCRIPTION:This class is for anyone looking to renew their CCW.
URL:https://spyc.com/event/ccw-renewal/
LOCATION:CA
ATTACH;FMTTYPE=image/png:https://spyc.com/wp-content/uploads/2022/11/My-project-1-50.png
END:VEVENT
END:VCALENDAR