BEGIN:VCALENDAR
VERSION:2.0
PRODID:-//Shooter&#039;s Paradise - ECPv6.15.20//NONSGML v1.0//EN
CALSCALE:GREGORIAN
METHOD:PUBLISH
X-ORIGINAL-URL:https://spyc.com
X-WR-CALDESC:Events for Shooter&#039;s Paradise
REFRESH-INTERVAL;VALUE=DURATION:PT1H
X-Robots-Tag:noindex
X-PUBLISHED-TTL:PT1H
BEGIN:VTIMEZONE
TZID:America/Los_Angeles
BEGIN:DAYLIGHT
TZOFFSETFROM:-0800
TZOFFSETTO:-0700
TZNAME:PDT
DTSTART:20210314T100000
END:DAYLIGHT
BEGIN:STANDARD
TZOFFSETFROM:-0700
TZOFFSETTO:-0800
TZNAME:PST
DTSTART:20211107T090000
END:STANDARD
BEGIN:DAYLIGHT
TZOFFSETFROM:-0800
TZOFFSETTO:-0700
TZNAME:PDT
DTSTART:20220313T100000
END:DAYLIGHT
BEGIN:STANDARD
TZOFFSETFROM:-0700
TZOFFSETTO:-0800
TZNAME:PST
DTSTART:20221106T090000
END:STANDARD
BEGIN:DAYLIGHT
TZOFFSETFROM:-0800
TZOFFSETTO:-0700
TZNAME:PDT
DTSTART:20230312T100000
END:DAYLIGHT
BEGIN:STANDARD
TZOFFSETFROM:-0700
TZOFFSETTO:-0800
TZNAME:PST
DTSTART:20231105T090000
END:STANDARD
BEGIN:DAYLIGHT
TZOFFSETFROM:-0800
TZOFFSETTO:-0700
TZNAME:PDT
DTSTART:20240310T100000
END:DAYLIGHT
BEGIN:STANDARD
TZOFFSETFROM:-0700
TZOFFSETTO:-0800
TZNAME:PST
DTSTART:20241103T090000
END:STANDARD
END:VTIMEZONE
BEGIN:VEVENT
DTSTART;TZID=America/Los_Angeles:20230819T100000
DTEND;TZID=America/Los_Angeles:20230819T140000
DTSTAMP:20260423T073035
CREATED:20230413T203800Z
LAST-MODIFIED:20230413T203800Z
UID:562-1692439200-1692453600@spyc.com
SUMMARY:CCW RENEWAL
DESCRIPTION:CCW RENEWAL.  PRE-PAYMENT REQUIRED.  CALL 530.673.4100 YOU WILL RECEIVE A CERTIFICATE OF TRAINING AT THE END OF THE CLASS WHICH IS REQUIRED FOR YOU TO APPLY FOR YOUR RENEWAL AT THE SHERIFF’S DEPARTMENT IN YOUR COUNTY
URL:https://spyc.com/event/ccw-renewal-24/
LOCATION:SHOOTERS PARADISE OF YUBA CITY\, 1407A COLUSA HWY\, YUBA CITY\, CA\, 95993\, United States
CATEGORIES:CCW RENEWAL
ATTACH;FMTTYPE=image/jpeg:https://spyc.com/wp-content/uploads/2022/12/concealed-carry-oregon.jpg
ORGANIZER;CN="SHOOTER'S PARADISE OF YUBA CITY":MAILTO:info@SPYC.COM
END:VEVENT
BEGIN:VEVENT
DTSTART;TZID=America/Los_Angeles:20230813T100000
DTEND;TZID=America/Los_Angeles:20230813T140000
DTSTAMP:20260423T073035
CREATED:20230413T203614Z
LAST-MODIFIED:20230413T203614Z
UID:560-1691920800-1691935200@spyc.com
SUMMARY:CCW RENEWAL
DESCRIPTION:CCW RENEWAL.  PRE-PAYMENT REQUIRED.  CALL 530.673.4100 YOU WILL RECEIVE A CERTIFICATE OF TRAINING AT THE END OF THE CLASS WHICH IS REQUIRED FOR YOU TO APPLY FOR YOUR RENEWAL AT THE SHERIFF’S DEPARTMENT IN YOUR COUNTY
URL:https://spyc.com/event/ccw-renewal-23/
LOCATION:SHOOTERS PARADISE OF YUBA CITY\, 1407A COLUSA HWY\, YUBA CITY\, CA\, 95993\, United States
CATEGORIES:CCW RENEWAL
ATTACH;FMTTYPE=image/jpeg:https://spyc.com/wp-content/uploads/2022/12/concealed-carry-oregon.jpg
ORGANIZER;CN="SHOOTER'S PARADISE OF YUBA CITY":MAILTO:info@SPYC.COM
END:VEVENT
BEGIN:VEVENT
DTSTART;TZID=America/Los_Angeles:20230805T100000
DTEND;TZID=America/Los_Angeles:20230805T140000
DTSTAMP:20260423T073035
CREATED:20230413T203107Z
LAST-MODIFIED:20230413T203107Z
UID:554-1691229600-1691244000@spyc.com
SUMMARY:CCW RENEWAL
DESCRIPTION:CCW RENEWAL.  PRE-PAYMENT REQUIRED.  CALL 530.673.4100 YOU WILL RECEIVE A CERTIFICATE OF TRAINING AT THE END OF THE CLASS WHICH IS REQUIRED FOR YOU TO APPLY FOR YOUR RENEWAL AT THE SHERIFF’S DEPARTMENT IN YOUR COUNTY
URL:https://spyc.com/event/ccw-renewal-22/
LOCATION:SHOOTERS PARADISE OF YUBA CITY\, 1407A COLUSA HWY\, YUBA CITY\, CA\, 95993\, United States
CATEGORIES:CCW RENEWAL
ATTACH;FMTTYPE=image/jpeg:https://spyc.com/wp-content/uploads/2022/12/concealed-carry-oregon.jpg
ORGANIZER;CN="SHOOTER'S PARADISE OF YUBA CITY":MAILTO:info@SPYC.COM
END:VEVENT
BEGIN:VEVENT
DTSTART;TZID=America/Los_Angeles:20230723T100000
DTEND;TZID=America/Los_Angeles:20230723T140000
DTSTAMP:20260423T073035
CREATED:20230413T202935Z
LAST-MODIFIED:20230413T202935Z
UID:552-1690106400-1690120800@spyc.com
SUMMARY:CCW RENEWAL
DESCRIPTION:CCW RENEWAL.  PRE-PAYMENT REQUIRED.  CALL 530.673.4100 YOU WILL RECEIVE A CERTIFICATE OF TRAINING AT THE END OF THE CLASS WHICH IS REQUIRED FOR YOU TO APPLY FOR YOUR RENEWAL AT THE SHERIFF’S DEPARTMENT IN YOUR COUNTY
URL:https://spyc.com/event/ccw-renewal-21/
LOCATION:SHOOTERS PARADISE OF YUBA CITY\, 1407A COLUSA HWY\, YUBA CITY\, CA\, 95993\, United States
CATEGORIES:CCW RENEWAL
ATTACH;FMTTYPE=image/jpeg:https://spyc.com/wp-content/uploads/2022/12/CCWBADGUY.jpg
ORGANIZER;CN="SHOOTER'S PARADISE OF YUBA CITY":MAILTO:info@SPYC.COM
END:VEVENT
BEGIN:VEVENT
DTSTART;TZID=America/Los_Angeles:20230716T100000
DTEND;TZID=America/Los_Angeles:20230716T140000
DTSTAMP:20260423T073035
CREATED:20230413T202639Z
LAST-MODIFIED:20230413T202639Z
UID:548-1689501600-1689516000@spyc.com
SUMMARY:CCW RENEWAL
DESCRIPTION:CCW RENEWAL.  PRE-PAYMENT REQUIRED.  CALL 530.673.4100 YOU WILL RECEIVE A CERTIFICATE OF TRAINING AT THE END OF THE CLASS WHICH IS REQUIRED FOR YOU TO APPLY FOR YOUR RENEWAL AT THE SHERIFF’S DEPARTMENT IN YOUR COUNTY
URL:https://spyc.com/event/ccw-renewal-20/
LOCATION:SHOOTERS PARADISE OF YUBA CITY\, 1407A COLUSA HWY\, YUBA CITY\, CA\, 95993\, United States
CATEGORIES:CCW RENEWAL
ATTACH;FMTTYPE=image/jpeg:https://spyc.com/wp-content/uploads/2022/12/CCWBADGUY.jpg
ORGANIZER;CN="SHOOTER'S PARADISE OF YUBA CITY":MAILTO:info@SPYC.COM
END:VEVENT
BEGIN:VEVENT
DTSTART;TZID=America/Los_Angeles:20230715T100000
DTEND;TZID=America/Los_Angeles:20230715T140000
DTSTAMP:20260423T073035
CREATED:20230413T202410Z
LAST-MODIFIED:20230413T202410Z
UID:546-1689415200-1689429600@spyc.com
SUMMARY:CCW RENEWAL
DESCRIPTION:CCW RENEWAL.  PRE-PAYMENT REQUIRED.  CALL 530.673.4100 YOU WILL RECEIVE A CERTIFICATE OF TRAINING AT THE END OF THE CLASS WHICH IS REQUIRED FOR YOU TO APPLY FOR YOUR RENEWAL AT THE SHERIFF’S DEPARTMENT IN YOUR COUNTY
URL:https://spyc.com/event/ccw-renewal-19/
LOCATION:SHOOTERS PARADISE OF YUBA CITY\, 1407A COLUSA HWY\, YUBA CITY\, CA\, 95993\, United States
CATEGORIES:CCW RENEWAL
ATTACH;FMTTYPE=image/jpeg:https://spyc.com/wp-content/uploads/2022/12/CCWBADGUY.jpg
ORGANIZER;CN="SHOOTER'S PARADISE OF YUBA CITY":MAILTO:info@SPYC.COM
END:VEVENT
BEGIN:VEVENT
DTSTART;TZID=America/Los_Angeles:20230708T100000
DTEND;TZID=America/Los_Angeles:20230708T140000
DTSTAMP:20260423T073035
CREATED:20230413T202105Z
LAST-MODIFIED:20230413T202105Z
UID:542-1688810400-1688824800@spyc.com
SUMMARY:CCW RENEWAL
DESCRIPTION:CCW RENEWAL.  PRE-PAYMENT REQUIRED.  CALL 530.673.4100 YOU WILL RECEIVE A CERTIFICATE OF TRAINING AT THE END OF THE CLASS WHICH IS REQUIRED FOR YOU TO APPLY FOR YOUR RENEWAL AT THE SHERIFF’S DEPARTMENT IN YOUR COUNTY
URL:https://spyc.com/event/ccw-renewal-18/
LOCATION:SHOOTERS PARADISE OF YUBA CITY\, 1407A COLUSA HWY\, YUBA CITY\, CA\, 95993\, United States
CATEGORIES:CCW RENEWAL
ATTACH;FMTTYPE=image/jpeg:https://spyc.com/wp-content/uploads/2022/12/CCWBADGUY.jpg
ORGANIZER;CN="SHOOTER'S PARADISE OF YUBA CITY":MAILTO:info@SPYC.COM
END:VEVENT
BEGIN:VEVENT
DTSTART;TZID=America/Los_Angeles:20230625T100000
DTEND;TZID=America/Los_Angeles:20230625T140000
DTSTAMP:20260423T073035
CREATED:20230413T201845Z
LAST-MODIFIED:20230413T201845Z
UID:540-1687687200-1687701600@spyc.com
SUMMARY:CCW RENEWAL
DESCRIPTION:CCW RENEWAL.  PRE-PAYMENT REQUIRED.  CALL 530.673.4100 YOU WILL RECEIVE A CERTIFICATE OF TRAINING AT THE END OF THE CLASS WHICH IS REQUIRED FOR YOU TO APPLY FOR YOUR RENEWAL AT THE SHERIFF’S DEPARTMENT IN YOUR COUNTY
URL:https://spyc.com/event/ccw-renewal-17/
LOCATION:SHOOTERS PARADISE OF YUBA CITY\, 1407A COLUSA HWY\, YUBA CITY\, CA\, 95993\, United States
CATEGORIES:CCW RENEWAL
ATTACH;FMTTYPE=image/png:https://spyc.com/wp-content/uploads/2022/12/CCWBLUE.png
ORGANIZER;CN="SHOOTER'S PARADISE OF YUBA CITY":MAILTO:info@SPYC.COM
END:VEVENT
BEGIN:VEVENT
DTSTART;TZID=America/Los_Angeles:20230617T100000
DTEND;TZID=America/Los_Angeles:20230617T140000
DTSTAMP:20260423T073035
CREATED:20230413T201020Z
LAST-MODIFIED:20230413T201020Z
UID:533-1686996000-1687010400@spyc.com
SUMMARY:CCW RENEWAL
DESCRIPTION:CCW RENEWAL.  PRE-PAYMENT REQUIRED.  CALL 530.673.4100 YOU WILL RECEIVE A CERTIFICATE OF TRAINING AT THE END OF THE CLASS WHICH IS REQUIRED FOR YOU TO APPLY FOR YOUR RENEWAL AT THE SHERIFF’S DEPARTMENT IN YOUR COUNTY
URL:https://spyc.com/event/ccw-renewal-16/
LOCATION:SHOOTERS PARADISE OF YUBA CITY\, 1407A COLUSA HWY\, YUBA CITY\, CA\, 95993\, United States
CATEGORIES:CCW RENEWAL
ATTACH;FMTTYPE=image/png:https://spyc.com/wp-content/uploads/2022/12/CCWBLUE.png
ORGANIZER;CN="SHOOTER'S PARADISE OF YUBA CITY":MAILTO:info@SPYC.COM
END:VEVENT
BEGIN:VEVENT
DTSTART;TZID=America/Los_Angeles:20230604T100000
DTEND;TZID=America/Los_Angeles:20230604T140000
DTSTAMP:20260423T073035
CREATED:20230413T200759Z
LAST-MODIFIED:20230413T200759Z
UID:531-1685872800-1685887200@spyc.com
SUMMARY:CCW RENEWAL
DESCRIPTION:CCW RENEWAL.  PRE-PAYMENT REQUIRED.  CALL 530.673.4100 YOU WILL RECEIVE A CERTIFICATE OF TRAINING AT THE END OF THE CLASS WHICH IS REQUIRED FOR YOU TO APPLY FOR YOUR RENEWAL AT THE SHERIFF’S DEPARTMENT IN YOUR COUNTY
URL:https://spyc.com/event/ccw-renewal-15/
LOCATION:SHOOTERS PARADISE OF YUBA CITY\, 1407A COLUSA HWY\, YUBA CITY\, CA\, 95993\, United States
CATEGORIES:CCW RENEWAL
ATTACH;FMTTYPE=image/png:https://spyc.com/wp-content/uploads/2022/12/CCWBLUE.png
ORGANIZER;CN="SHOOTER'S PARADISE OF YUBA CITY":MAILTO:info@SPYC.COM
END:VEVENT
BEGIN:VEVENT
DTSTART;TZID=America/Los_Angeles:20230528T100000
DTEND;TZID=America/Los_Angeles:20230528T140000
DTSTAMP:20260423T073035
CREATED:20230413T200210Z
LAST-MODIFIED:20230413T200249Z
UID:527-1685268000-1685282400@spyc.com
SUMMARY:CCW RENEWAL
DESCRIPTION:CCW RENEWAL.  PRE-PAYMENT REQUIRED.  CALL 530.673.4100 YOU WILL RECEIVE A CERTIFICATE OF TRAINING AT THE END OF THE CLASS WHICH IS REQUIRED FOR YOU TO APPLY FOR YOUR RENEWAL AT THE SHERIFF’S DEPARTMENT IN YOUR COUNTY
URL:https://spyc.com/event/ccw-renewal-14/
LOCATION:SHOOTERS PARADISE OF YUBA CITY\, 1407A COLUSA HWY\, YUBA CITY\, CA\, 95993\, United States
CATEGORIES:CCW RENEWAL
ATTACH;FMTTYPE=image/jpeg:https://spyc.com/wp-content/uploads/2022/12/ccwf.jpg
ORGANIZER;CN="SHOOTER'S PARADISE OF YUBA CITY":MAILTO:info@SPYC.COM
END:VEVENT
BEGIN:VEVENT
DTSTART;TZID=America/Los_Angeles:20230521T100000
DTEND;TZID=America/Los_Angeles:20230521T140000
DTSTAMP:20260423T073035
CREATED:20230320T222655Z
LAST-MODIFIED:20230320T222655Z
UID:521-1684663200-1684677600@spyc.com
SUMMARY:CCW RENEWAL
DESCRIPTION:
URL:https://spyc.com/event/ccw-renewal-13/
LOCATION:SHOOTERS PARADISE OF YUBA CITY\, 1407A COLUSA HWY\, YUBA CITY\, CA\, 95993\, United States
CATEGORIES:CCW RENEWAL
ATTACH;FMTTYPE=image/jpeg:https://spyc.com/wp-content/uploads/2022/12/concealed-carry-oregon.jpg
ORGANIZER;CN="SHOOTER'S PARADISE OF YUBA CITY":MAILTO:info@SPYC.COM
END:VEVENT
BEGIN:VEVENT
DTSTART;TZID=America/Los_Angeles:20230520T100000
DTEND;TZID=America/Los_Angeles:20230520T140000
DTSTAMP:20260423T073035
CREATED:20230320T222013Z
LAST-MODIFIED:20230320T222013Z
UID:519-1684576800-1684591200@spyc.com
SUMMARY:CCW RENEWAL
DESCRIPTION:
URL:https://spyc.com/event/ccw-renewal-12/
LOCATION:SHOOTERS PARADISE OF YUBA CITY\, 1407A COLUSA HWY\, YUBA CITY\, CA\, 95993\, United States
CATEGORIES:CCW RENEWAL
ATTACH;FMTTYPE=image/jpeg:https://spyc.com/wp-content/uploads/2022/12/concealed-carry-oregon.jpg
ORGANIZER;CN="SHOOTER'S PARADISE OF YUBA CITY":MAILTO:info@SPYC.COM
END:VEVENT
BEGIN:VEVENT
DTSTART;TZID=America/Los_Angeles:20230506T100000
DTEND;TZID=America/Los_Angeles:20230506T140000
DTSTAMP:20260423T073035
CREATED:20230320T221053Z
LAST-MODIFIED:20230413T211241Z
UID:515-1683367200-1683381600@spyc.com
SUMMARY:CCW RENEWAL
DESCRIPTION:
URL:https://spyc.com/event/ccw-renewal-11/
LOCATION:SHOOTERS PARADISE OF YUBA CITY\, 1407A COLUSA HWY\, YUBA CITY\, CA\, 95993\, United States
CATEGORIES:CCW RENEWAL
ATTACH;FMTTYPE=image/jpeg:https://spyc.com/wp-content/uploads/2022/12/concealed-carry-oregon.jpg
ORGANIZER;CN="SHOOTER'S PARADISE OF YUBA CITY":MAILTO:info@SPYC.COM
END:VEVENT
BEGIN:VEVENT
DTSTART;TZID=America/Los_Angeles:20230325T100000
DTEND;TZID=America/Los_Angeles:20230325T140000
DTSTAMP:20260423T073035
CREATED:20221202T212027Z
LAST-MODIFIED:20221202T212027Z
UID:467-1679738400-1679752800@spyc.com
SUMMARY:CCW RENEWAL
DESCRIPTION:4 HOUR CCW RENEWAL CLASS\nCALL OR COME IN TO PAY AND REGISTER\n530.673.4100
URL:https://spyc.com/event/ccw-renewal-9/
LOCATION:SHOOTERS PARADISE OF YUBA CITY\, 1407A COLUSA HWY\, YUBA CITY\, CA\, 95993\, United States
CATEGORIES:CCW RENEWAL
ATTACH;FMTTYPE=image/jpeg:https://spyc.com/wp-content/uploads/2022/12/CCW1.jpg
ORGANIZER;CN="SHOOTER'S PARADISE OF YUBA CITY":MAILTO:info@SPYC.COM
END:VEVENT
BEGIN:VEVENT
DTSTART;TZID=America/Los_Angeles:20230312T080000
DTEND;TZID=America/Los_Angeles:20230312T170000
DTSTAMP:20260423T073035
CREATED:20221202T212542Z
LAST-MODIFIED:20221202T212542Z
UID:471-1678608000-1678640400@spyc.com
SUMMARY:CCW RENEWAL
DESCRIPTION:4 HOUR CCW RENEWAL CLASS\nCALL OR COME IN TO PAY AND REGISTER\n530.673.4100
URL:https://spyc.com/event/ccw-renewal-10/
LOCATION:SHOOTERS PARADISE OF YUBA CITY\, 1407A COLUSA HWY\, YUBA CITY\, CA\, 95993\, United States
CATEGORIES:CCW RENEWAL
ATTACH;FMTTYPE=image/jpeg:https://spyc.com/wp-content/uploads/2022/12/CCW1.jpg
ORGANIZER;CN="SHOOTER'S PARADISE OF YUBA CITY":MAILTO:info@SPYC.COM
END:VEVENT
BEGIN:VEVENT
DTSTART;TZID=America/Los_Angeles:20230225T100000
DTEND;TZID=America/Los_Angeles:20230225T140000
DTSTAMP:20260423T073035
CREATED:20221202T211443Z
LAST-MODIFIED:20221202T211443Z
UID:460-1677319200-1677333600@spyc.com
SUMMARY:CCW RENEWAL
DESCRIPTION:4 HOUR CCW RENEWAL CLASS\nCALL OR COME IN TO PAY AND REGISTER\n530.673.4100
URL:https://spyc.com/event/ccw-renewal-8/
LOCATION:SHOOTERS PARADISE OF YUBA CITY\, 1407A COLUSA HWY\, YUBA CITY\, CA\, 95993\, United States
CATEGORIES:CCW RENEWAL
ATTACH;FMTTYPE=image/png:https://spyc.com/wp-content/uploads/2022/12/CCWBLUE.png
ORGANIZER;CN="SHOOTER'S PARADISE OF YUBA CITY":MAILTO:info@SPYC.COM
END:VEVENT
BEGIN:VEVENT
DTSTART;TZID=America/Los_Angeles:20230212T100000
DTEND;TZID=America/Los_Angeles:20230212T140000
DTSTAMP:20260423T073035
CREATED:20221202T211229Z
LAST-MODIFIED:20221202T211229Z
UID:458-1676196000-1676210400@spyc.com
SUMMARY:CCW RENEWAL
DESCRIPTION:4 HOUR CCW RENEWAL CLASS\nCALL OR COME IN TO PAY AND REGISTER\n530.673.4100
URL:https://spyc.com/event/ccw-renewal-7/
LOCATION:SHOOTERS PARADISE OF YUBA CITY\, 1407A COLUSA HWY\, YUBA CITY\, CA\, 95993\, United States
CATEGORIES:CCW RENEWAL
ATTACH;FMTTYPE=image/png:https://spyc.com/wp-content/uploads/2022/12/CCWBLUE.png
ORGANIZER;CN="SHOOTER'S PARADISE OF YUBA CITY":MAILTO:info@SPYC.COM
END:VEVENT
BEGIN:VEVENT
DTSTART;TZID=America/Los_Angeles:20230128T100000
DTEND;TZID=America/Los_Angeles:20230128T140000
DTSTAMP:20260423T073035
CREATED:20221202T204107Z
LAST-MODIFIED:20221202T204107Z
UID:451-1674900000-1674914400@spyc.com
SUMMARY:CCW RENEWAL
DESCRIPTION:4 HOUR CCW RENEWAL CLASS\nCALL OR COME IN TO PAY AND REGISTER\n530.673.4100
URL:https://spyc.com/event/ccw-renewal-6/
LOCATION:SHOOTERS PARADISE OF YUBA CITY\, 1407A COLUSA HWY\, YUBA CITY\, CA\, 95993\, United States
CATEGORIES:CCW RENEWAL
ATTACH;FMTTYPE=image/jpeg:https://spyc.com/wp-content/uploads/2022/12/concealed-carry-oregon.jpg
ORGANIZER;CN="SHOOTER'S PARADISE OF YUBA CITY":MAILTO:info@SPYC.COM
END:VEVENT
BEGIN:VEVENT
DTSTART;TZID=America/Los_Angeles:20230107T100000
DTEND;TZID=America/Los_Angeles:20230107T140000
DTSTAMP:20260423T073035
CREATED:20221202T203623Z
LAST-MODIFIED:20221202T203623Z
UID:446-1673085600-1673100000@spyc.com
SUMMARY:CCW RENEWAL
DESCRIPTION:4 HOUR CCW RENEWAL CLASS\nCALL OR COME IN TO PAY AND REGISTER\n530.673.4100
URL:https://spyc.com/event/ccw-renewal-5/
LOCATION:SHOOTERS PARADISE OF YUBA CITY\, 1407A COLUSA HWY\, YUBA CITY\, CA\, 95993\, United States
CATEGORIES:CCW RENEWAL
ATTACH;FMTTYPE=image/jpeg:https://spyc.com/wp-content/uploads/2022/12/concealed-carry-oregon.jpg
ORGANIZER;CN="SHOOTER'S PARADISE OF YUBA CITY":MAILTO:info@SPYC.COM
END:VEVENT
BEGIN:VEVENT
DTSTART;TZID=America/Los_Angeles:20221210T100000
DTEND;TZID=America/Los_Angeles:20221210T140000
DTSTAMP:20260423T073035
CREATED:20221202T001252Z
LAST-MODIFIED:20221202T003859Z
UID:415-1670666400-1670680800@spyc.com
SUMMARY:CCW RENEWAL
DESCRIPTION:4 HOUR CCW RENEWAL CLASS\nCALL OR COME IN TO PAY AND REGISTER \n530.673.4100
URL:https://spyc.com/event/ccw-renewal-3/
LOCATION:SHOOTERS PARADISE OF YUBA CITY\, 1407A COLUSA HWY\, YUBA CITY\, CA\, 95993\, United States
CATEGORIES:CCW RENEWAL
ATTACH;FMTTYPE=image/jpeg:https://spyc.com/wp-content/uploads/2022/12/CCWBADGUY.jpg
ORGANIZER;CN="SHOOTER'S PARADISE OF YUBA CITY":MAILTO:info@SPYC.COM
END:VEVENT
BEGIN:VEVENT
DTSTART;TZID=America/Los_Angeles:20221203T100000
DTEND;TZID=America/Los_Angeles:20221203T170000
DTSTAMP:20260423T073035
CREATED:20221201T215356Z
LAST-MODIFIED:20221202T003101Z
UID:401-1670061600-1670086800@spyc.com
SUMMARY:LADIES CCW
DESCRIPTION:LADIES ONLY CCW \nFEMALE INSTRUCTOR \nWILL COVER INITIAL OR RENEWAL \nCALL OR COME IN TO REGISTER \n530.673.4100
URL:https://spyc.com/event/ladies-ccw/
LOCATION:SHOOTERS PARADISE OF YUBA CITY\, 1407A COLUSA HWY\, YUBA CITY\, CA\, 95993\, United States
CATEGORIES:CCW,CCW INITIAL,CCW RENEWAL,LADIES CCW
ATTACH;FMTTYPE=image/jpeg:https://spyc.com/wp-content/uploads/2022/12/ccwf.jpg
ORGANIZER;CN="DEE ADAMS":MAILTO:info@SPYC.COM
END:VEVENT
END:VCALENDAR